BEGIN:VCALENDAR
VERSION:2.0
PRODID:-//Carolyn Labey - ECPv6.15.20//NONSGML v1.0//EN
CALSCALE:GREGORIAN
METHOD:PUBLISH
X-ORIGINAL-URL:https://carolynlabey.je
X-WR-CALDESC:Events for Carolyn Labey
REFRESH-INTERVAL;VALUE=DURATION:PT1H
X-Robots-Tag:noindex
X-PUBLISHED-TTL:PT1H
BEGIN:VTIMEZONE
TZID:UTC
BEGIN:STANDARD
TZOFFSETFROM:+0000
TZOFFSETTO:+0000
TZNAME:UTC
DTSTART:20250101T000000
END:STANDARD
END:VTIMEZONE
BEGIN:VEVENT
DTSTART;VALUE=DATE:20260429
DTEND;VALUE=DATE:20260430
DTSTAMP:20260425T154313
CREATED:20260409T225730Z
LAST-MODIFIED:20260409T225809Z
UID:6223-1777420800-1777507199@carolynlabey.je
SUMMARY:Election 2026 Candidate Fayre\, Oakfield Sports Centre
DESCRIPTION:I will be attending the Candidate Fayre at Oakfield Sports Centre to meet Students during the day and the public in the evening. Please do come along for a chat about any concerns you have or to learn more about the election.
URL:https://carolynlabey.je/event/election-2026-candidate-fayre-oakfield-sports-centre/
LOCATION:Oakfield Sports Centre\, Wellington Rd\,\, St Saviour\, Jersey\, JE2 7TH
CATEGORIES:Meet the Candidates,Parish surgeries
ATTACH;FMTTYPE=image/webp:https://carolynlabey.je/wp-content/uploads/2026/04/Oakfield.webp
END:VEVENT
BEGIN:VEVENT
DTSTART;TZID=UTC:20260502T140000
DTEND;TZID=UTC:20260502T153000
DTSTAMP:20260425T154313
CREATED:20260407T205945Z
LAST-MODIFIED:20260409T213907Z
UID:6164-1777730400-1777735800@carolynlabey.je
SUMMARY:Village Green\, St. Martin "Meet the Candidate" drop-in surgery
DESCRIPTION:I am looking forward to meeting as many Parishioners as possible during the campaign. While it isn’t possible to visit every household in St Martin and Grouville in the time available\, I have arranged a series of informal “Meet the Candidate” drop-in surgeries across both Parishes. Please do come along for a chat and to raise any concerns you may have.
URL:https://carolynlabey.je/event/meet-the-candidate-drop-in-surgery/
LOCATION:The Village Tea Room\, Village cafe\, St Martins\, Jersey\, JE3 6HW\, United Kingdom
CATEGORIES:Meet the Candidates,Parish surgeries
ATTACH;FMTTYPE=image/jpeg:https://carolynlabey.je/wp-content/uploads/2022/02/Villagetearooms-e1775596224383.jpg
END:VEVENT
BEGIN:VEVENT
DTSTART;TZID=UTC:20260505T140000
DTEND;TZID=UTC:20260505T153000
DTSTAMP:20260425T154313
CREATED:20260407T211530Z
LAST-MODIFIED:20260409T213907Z
UID:6171-1777989600-1777995000@carolynlabey.je
SUMMARY:Holme Grown “Meet the Candidate” drop-in surgery
DESCRIPTION:I am looking forward to meeting as many Parishioners as possible during the campaign. While it isn’t possible to visit every household in St Martin and Grouville in the time available\, I have arranged a series of informal “Meet the Candidate” drop-in surgeries across both Parishes. Please do come along for a chat and to raise any concerns you may have.
URL:https://carolynlabey.je/event/meet-the-candidate-drop-in-surgery-2/
LOCATION:Stanley’s Holme Growne\, Holme Grown\, La Rue Au Long\, Jersey\, JE3 9SH\, United Kingdom
CATEGORIES:Meet the Candidates,Parish surgeries
ATTACH;FMTTYPE=image/jpeg:https://carolynlabey.je/wp-content/uploads/2024/12/holmegrown-e1775596591618.jpg
END:VEVENT
BEGIN:VEVENT
DTSTART;TZID=UTC:20260513T100000
DTEND;TZID=UTC:20260513T113000
DTSTAMP:20260425T154313
CREATED:20260407T212421Z
LAST-MODIFIED:20260409T222459Z
UID:6176-1778666400-1778671800@carolynlabey.je
SUMMARY:Breakwater Café\, St Catherines “Meet the Candidate” drop-in surgery
DESCRIPTION:I am looking forward to meeting as many Parishioners as possible during the campaign. While it isn’t possible to visit every household in St Martin and Grouville in the time available\, I have arranged a series of informal “Meet the Candidate” drop-in surgeries across both Parishes. Please do come along for a chat and to raise any concerns you may have.
URL:https://carolynlabey.je/event/breakwater-cafe-st-catherines-meet-the-candidate-drop-in-surgery/
LOCATION:St Catherine’s Breakwater Cafe\, The Breakwater Cafe\, La\, Rte de Ste Catherine\, St Martin\, JE3 6DD\, United Kingdom
CATEGORIES:Meet the Candidates,Parish surgeries
ATTACH;FMTTYPE=image/webp:https://carolynlabey.je/wp-content/uploads/2026/04/breakwatercafe2.webp
END:VEVENT
BEGIN:VEVENT
DTSTART;TZID=UTC:20260521T180000
DTEND;TZID=UTC:20260521T193000
DTSTAMP:20260425T154313
CREATED:20260409T214226Z
LAST-MODIFIED:20260409T214226Z
UID:6203-1779386400-1779391800@carolynlabey.je
SUMMARY:The Captain's Bar\, Seymour Inn “Meet the Candidate” drop-in surgery
DESCRIPTION:I am looking forward to meeting as many Parishioners as possible during the campaign. While it isn’t possible to visit every household in St Martin and Grouville in the time available\, I have arranged a series of informal “Meet the Candidate” drop-in surgeries across both Parishes. Please do come along for a chat and to raise any concerns you may have.
URL:https://carolynlabey.je/event/the-captains-bar-seymour-inn-meet-the-candidate-drop-in-surgery/
LOCATION:Seymour Inn\, The Seymour Pub\, La Rue Du Puits Mahaut\,\, Jersey\, JE3 9BU\, United Kingdom
CATEGORIES:Meet the Candidates,Parish surgeries
ATTACH;FMTTYPE=image/jpeg:https://carolynlabey.je/wp-content/uploads/2022/02/Seymour.jpg
END:VEVENT
BEGIN:VEVENT
DTSTART;TZID=UTC:20260529T100000
DTEND;TZID=UTC:20260529T113000
DTSTAMP:20260425T154313
CREATED:20260409T215918Z
LAST-MODIFIED:20260409T220923Z
UID:6205-1780048800-1780054200@carolynlabey.je
SUMMARY:Ransoms Tea Room\, “Meet the Candidate” drop-in surgery
DESCRIPTION:I am looking forward to meeting as many Parishioners as possible during the campaign. While it isn’t possible to visit every household in St Martin and Grouville in the time available\, I have arranged a series of informal “Meet the Candidate” drop-in surgeries across both Parishes. Please do come along for a chat and to raise any concerns you may have.
URL:https://carolynlabey.je/event/ransoms-tea-room-meet-the-candidate-drop-in-surgery/
LOCATION:Ransoms Tea Room\, Ransoms tearoom\, St Martin\, Jersey\, JE3 6UD\, United Kingdom
CATEGORIES:Meet the Candidates,Parish surgeries
ATTACH;FMTTYPE=image/jpeg:https://carolynlabey.je/wp-content/uploads/2024/12/Ransoms.jpg
END:VEVENT
BEGIN:VEVENT
DTSTART;TZID=UTC:20260606T100000
DTEND;TZID=UTC:20260606T113000
DTSTAMP:20260425T154313
CREATED:20260409T220916Z
LAST-MODIFIED:20260409T221745Z
UID:6208-1780740000-1780745400@carolynlabey.je
SUMMARY:Veranda\, Gorey Village “Meet the Candidate” drop-in surgery
DESCRIPTION:I am looking forward to meeting as many Parishioners as possible during the campaign. While it isn’t possible to visit every household in St Martin and Grouville in the time available\, I have arranged a series of informal “Meet the Candidate” drop-in surgeries across both Parishes. Please do come along for a chat and to raise any concerns you may have.
URL:https://carolynlabey.je/event/veranda-gorey-village-meet-the-candidate-drop-in-surgery/
LOCATION:The Veranda\, Gorey Village\, Gouray Village Main Road\, Grouville\, Jersey\, JE3 9EP
CATEGORIES:Meet the Candidates,Parish surgeries
ATTACH;FMTTYPE=image/webp:https://carolynlabey.je/wp-content/uploads/2026/04/Veranda-1.webp
END:VEVENT
END:VCALENDAR