BEGIN:VCALENDAR
VERSION:2.0
PRODID:-//Carolyn Labey - ECPv6.15.20//NONSGML v1.0//EN
CALSCALE:GREGORIAN
METHOD:PUBLISH
X-WR-CALNAME:Carolyn Labey
X-ORIGINAL-URL:https://carolynlabey.je
X-WR-CALDESC:Events for Carolyn Labey
REFRESH-INTERVAL;VALUE=DURATION:PT1H
X-Robots-Tag:noindex
X-PUBLISHED-TTL:PT1H
BEGIN:VTIMEZONE
TZID:UTC
BEGIN:STANDARD
TZOFFSETFROM:+0000
TZOFFSETTO:+0000
TZNAME:UTC
DTSTART:20250101T000000
END:STANDARD
END:VTIMEZONE
BEGIN:VEVENT
DTSTART;VALUE=DATE:20260429
DTEND;VALUE=DATE:20260430
DTSTAMP:20260425T171724
CREATED:20260409T225730Z
LAST-MODIFIED:20260409T225809Z
UID:6223-1777420800-1777507199@carolynlabey.je
SUMMARY:Election 2026 Candidate Fayre\, Oakfield Sports Centre
DESCRIPTION:I will be attending the Candidate Fayre at Oakfield Sports Centre to meet Students during the day and the public in the evening. Please do come along for a chat about any concerns you have or to learn more about the election.
URL:https://carolynlabey.je/event/election-2026-candidate-fayre-oakfield-sports-centre/
LOCATION:Oakfield Sports Centre\, Wellington Rd\,\, St Saviour\, Jersey\, JE2 7TH
CATEGORIES:Meet the Candidates,Parish surgeries
ATTACH;FMTTYPE=image/webp:https://carolynlabey.je/wp-content/uploads/2026/04/Oakfield.webp
END:VEVENT
END:VCALENDAR